BEGIN:VCALENDAR
VERSION:2.0
PRODID:-//Malahide Yacht Club - ECPv6.15.20//NONSGML v1.0//EN
CALSCALE:GREGORIAN
METHOD:PUBLISH
X-WR-CALNAME:Malahide Yacht Club
X-ORIGINAL-URL:https://www.myc.ie
X-WR-CALDESC:Events for Malahide Yacht Club
REFRESH-INTERVAL;VALUE=DURATION:PT1H
X-Robots-Tag:noindex
X-PUBLISHED-TTL:PT1H
BEGIN:VTIMEZONE
TZID:Europe/Dublin
BEGIN:DAYLIGHT
TZOFFSETFROM:+0000
TZOFFSETTO:+0100
TZNAME:IST
DTSTART:20250330T010000
END:DAYLIGHT
BEGIN:STANDARD
TZOFFSETFROM:+0100
TZOFFSETTO:+0000
TZNAME:GMT
DTSTART:20251026T010000
END:STANDARD
BEGIN:DAYLIGHT
TZOFFSETFROM:+0000
TZOFFSETTO:+0100
TZNAME:IST
DTSTART:20260329T010000
END:DAYLIGHT
BEGIN:STANDARD
TZOFFSETFROM:+0100
TZOFFSETTO:+0000
TZNAME:GMT
DTSTART:20261025T010000
END:STANDARD
BEGIN:DAYLIGHT
TZOFFSETFROM:+0000
TZOFFSETTO:+0100
TZNAME:IST
DTSTART:20270328T010000
END:DAYLIGHT
BEGIN:STANDARD
TZOFFSETFROM:+0100
TZOFFSETTO:+0000
TZNAME:GMT
DTSTART:20271031T010000
END:STANDARD
END:VTIMEZONE
BEGIN:VEVENT
DTSTART;TZID=Europe/Dublin:20260502T180000
DTEND;TZID=Europe/Dublin:20260502T230000
DTSTAMP:20260422T225806
CREATED:20260422T164740Z
LAST-MODIFIED:20260422T164922Z
UID:10000673-1777744800-1777762800@www.myc.ie
SUMMARY:Malahide Muster 2026
DESCRIPTION:Cruising Association of Ireland Annual Malahide Muster and Cruise In Company \nMalahide Yacht Club are hosting the Cruising Association of Ireland & Friends \nEnjoy a Saturday cruise in company to Malahide followed by a two course meal in the Malahide Yacht Club.\nMeet up with friends new and old – Enjoy an evening of music and craic including the CAI Musicians\, MYC Shanty Choir and Folk & Blues Club \nA great opportunity to socialise\, talk the talk\, feast and enjoy yourselves.\nAll welcome\, a chance to meet and share stories with members of the Cruising Association of Ireland and local sailing folk. \nSaturday cruise will finish at the Malahide Safe Water Mark (SWM) at 15:00hrs before heading up the estuary into the Malahide Marina. [Saturday HW 12:52hrs  3.8m] – [Sunday HW  13:26hrs  3.7m] \nThe Malahide Yacht Club facilities will be open for you on arrival (rugby TV special Leinster & Toulon in clubhouse\, kick off 15:00hrs) and the two course meal will be served at 18:00hrs \nSunday will include a cruise to Lambay and anchor off for a midday picnic before heading for your home port. \nFor the dinner on Saturday evening you need to choose a dish (beef\, chicken or vegetarian) at €32 per person in advance.\nDinner bookings will close on Wednesday evening 29th April. \nOrganiser: Vincent Lundy 0874117575\nevents@cruising.ie \nMalahide Muster Menu – 2nd May 2026 Malahide Yacht Club \n*Buffet Style Service* – €32 per person \nMains \nSlow braised beef featherblade with a red wine reduction and creamy seasonal mashed potatoes \nor \nChicken Chasseur with rice and gremolata \nor \nAubergine Parmigana \n  \nMain dish comes with side salad\, choice of \nTossed Green Salad \nHerby baby potato salad \nCrusty warm sourdough bread \nDesserts \n*Dessert Buffet* \nMini Macaroons \nBrownie Bites \nCarrot Cake Bites \nMascarpone Berry Tartlets \nStrawberries dipped in chocolate
URL:https://www.myc.ie/event/malahide-muster-2026/
LOCATION:James’s Terrace Clubhouse\, Malahide\, Dublin\, Co Dublin\, K36 EY86\, Ireland
CATEGORIES:Cruisers,Social
ATTACH;FMTTYPE=image/png:https://www.myc.ie/wp-content/uploads/2026/04/Malahide-Muster-2026-1.png
ORGANIZER;CN="Malahide Yacht Club":MAILTO:website@myc.ie
GEO:53.4509236;-6.1501378
X-APPLE-STRUCTURED-LOCATION;VALUE=URI;X-ADDRESS=James’s Terrace Clubhouse Malahide Dublin Co Dublin K36 EY86 Ireland;X-APPLE-RADIUS=500;X-TITLE=Malahide:geo:-6.1501378,53.4509236
END:VEVENT
END:VCALENDAR