BEGIN:VCALENDAR
VERSION:2.0
PRODID:-//Malahide Yacht Club - ECPv6.15.20//NONSGML v1.0//EN
CALSCALE:GREGORIAN
METHOD:PUBLISH
X-ORIGINAL-URL:https://www.myc.ie
X-WR-CALDESC:Events for Malahide Yacht Club
REFRESH-INTERVAL;VALUE=DURATION:PT1H
X-Robots-Tag:noindex
X-PUBLISHED-TTL:PT1H
BEGIN:VTIMEZONE
TZID:Europe/Dublin
BEGIN:DAYLIGHT
TZOFFSETFROM:+0000
TZOFFSETTO:+0100
TZNAME:IST
DTSTART:20240331T010000
END:DAYLIGHT
BEGIN:STANDARD
TZOFFSETFROM:+0100
TZOFFSETTO:+0000
TZNAME:GMT
DTSTART:20241027T010000
END:STANDARD
BEGIN:DAYLIGHT
TZOFFSETFROM:+0000
TZOFFSETTO:+0100
TZNAME:IST
DTSTART:20250330T010000
END:DAYLIGHT
BEGIN:STANDARD
TZOFFSETFROM:+0100
TZOFFSETTO:+0000
TZNAME:GMT
DTSTART:20251026T010000
END:STANDARD
BEGIN:DAYLIGHT
TZOFFSETFROM:+0000
TZOFFSETTO:+0100
TZNAME:IST
DTSTART:20260329T010000
END:DAYLIGHT
BEGIN:STANDARD
TZOFFSETFROM:+0100
TZOFFSETTO:+0000
TZNAME:GMT
DTSTART:20261025T010000
END:STANDARD
END:VTIMEZONE
BEGIN:VEVENT
DTSTART;TZID=Europe/Dublin:20251119T200000
DTEND;TZID=Europe/Dublin:20251119T230000
DTSTAMP:20260421T235443
CREATED:20251103T120150Z
LAST-MODIFIED:20251103T120150Z
UID:10000659-1763582400-1763593200@www.myc.ie
SUMMARY:Autumn Talk Series - Michael Guilfoyle – Adventurer & Freelance Journalist
DESCRIPTION:Join us at Malahide Yacht Club on Wednesday 19th November 2025 at 8.00pm in the STJ Clubhouse for the next fascinating instalment of our MYC Talk Series — an evening of adventure\, exploration\, and icy endurance with Michael Guilfoyle. \nIn his talk\, titled “Watersport … but not as we know it”\, Michael will transport us far from the warm waters of Malahide Estuary to the frozen expanse of Vatnajökull\, Iceland’s largest ice cap.This gripping presentation recounts his 1990 expedition across the glacier\, complete with tales of extreme weather\, teamwork\, and the indomitable human spirit — all delivered with Michael’s trademark wit and insight. \nA lifelong adventurer and occasional freelance journalist\, Michael’s stories blend the thrill of discovery with reflections on travel\, retirement\, and what drives people to keep exploring the unknown. Alongside his Icelandic expedition\, he’ll share a selection of earlier and later exploits that promise to both entertain and inspire. \nExpect an evening filled with stunning visuals\, compelling storytelling\, and perhaps a new perspective on what “watersport” can really mean when the water is frozen solid!
URL:https://www.myc.ie/event/talk-michael-guilfoyle/
LOCATION:James’s Terrace Clubhouse\, Malahide\, Dublin\, Co Dublin\, K36 EY86\, Ireland
CATEGORIES:Social
ATTACH;FMTTYPE=image/png:https://www.myc.ie/wp-content/uploads/2025/11/MYC-Talk-Series-2025-Michael-Guilfoyle-2.png
ORGANIZER;CN="Malahide Yacht Club":MAILTO:website@myc.ie
GEO:53.4509236;-6.1501378
X-APPLE-STRUCTURED-LOCATION;VALUE=URI;X-ADDRESS=James’s Terrace Clubhouse Malahide Dublin Co Dublin K36 EY86 Ireland;X-APPLE-RADIUS=500;X-TITLE=Malahide:geo:-6.1501378,53.4509236
END:VEVENT
END:VCALENDAR