BEGIN:VCALENDAR
VERSION:2.0
PRODID:-//Malahide Yacht Club - ECPv6.15.20//NONSGML v1.0//EN
CALSCALE:GREGORIAN
METHOD:PUBLISH
X-WR-CALNAME:Malahide Yacht Club
X-ORIGINAL-URL:https://www.myc.ie
X-WR-CALDESC:Events for Malahide Yacht Club
REFRESH-INTERVAL;VALUE=DURATION:PT1H
X-Robots-Tag:noindex
X-PUBLISHED-TTL:PT1H
BEGIN:VTIMEZONE
TZID:Europe/Dublin
BEGIN:DAYLIGHT
TZOFFSETFROM:+0000
TZOFFSETTO:+0100
TZNAME:IST
DTSTART:20240331T010000
END:DAYLIGHT
BEGIN:STANDARD
TZOFFSETFROM:+0100
TZOFFSETTO:+0000
TZNAME:GMT
DTSTART:20241027T010000
END:STANDARD
BEGIN:DAYLIGHT
TZOFFSETFROM:+0000
TZOFFSETTO:+0100
TZNAME:IST
DTSTART:20250330T010000
END:DAYLIGHT
BEGIN:STANDARD
TZOFFSETFROM:+0100
TZOFFSETTO:+0000
TZNAME:GMT
DTSTART:20251026T010000
END:STANDARD
BEGIN:DAYLIGHT
TZOFFSETFROM:+0000
TZOFFSETTO:+0100
TZNAME:IST
DTSTART:20260329T010000
END:DAYLIGHT
BEGIN:STANDARD
TZOFFSETFROM:+0100
TZOFFSETTO:+0000
TZNAME:GMT
DTSTART:20261025T010000
END:STANDARD
END:VTIMEZONE
BEGIN:VEVENT
DTSTART;TZID=Europe/Dublin:20251008T200000
DTEND;TZID=Europe/Dublin:20251008T230000
DTSTAMP:20260422T004649
CREATED:20250925T073508Z
LAST-MODIFIED:20250925T073508Z
UID:10000654-1759953600-1759964400@www.myc.ie
SUMMARY:Autumn Talk Series - Intro to AI & Cyber Safety
DESCRIPTION:Malahide Yacht Club is delighted to announce the next instalment of our Talk Series\, taking place on Wednesday 8th October 2025 at 8.00pm in the STJ Clubhouse.\n\n\nThis session\, led by Noel Davidson\, will provide a practical and engaging introduction to Artificial Intelligence (AI) and Cyber Safety. AI tools are rapidly becoming part of our everyday lives – from the way we search online\, to how we communicate\, work\, and even sail. But with opportunity comes risk\, and it’s vital we understand how to use these new technologies both effectively and safely. \nDuring the evening\, Noel will: \n\nGive a clear introduction to A.I. Tools;  (Chat GPT\, Gemini\, CoPilot and more) and how it’s changing the world around us.\nDemonstrate how you can use AI tools in a safe and responsible way.\nShare practical tips on how to spot scams and phishing attempts online.\nProvide guidance on protecting your personal information and staying secure in the digital space.\n\nWhether you’re curious about AI\, concerned about online safety\, or simply keen to keep up with the latest digital developments\, this is a session not to be missed. \nDate: Wednesday 8th October 2025\nTime: 8.00pm\nVenue: STJ Clubhouse \nWe look forward to seeing you there for what promises to be a fascinating and very relevant evening.
URL:https://www.myc.ie/event/autumn-talk-series-ai-cyber-safety/
LOCATION:James’s Terrace Clubhouse\, Malahide\, Dublin\, Co Dublin\, K36 EY86\, Ireland
CATEGORIES:Social
ATTACH;FMTTYPE=image/png:https://www.myc.ie/wp-content/uploads/2025/09/MYC-Talk-Series-2025-Noel-Davidson.png
ORGANIZER;CN="Malahide Yacht Club":MAILTO:website@myc.ie
GEO:53.4509236;-6.1501378
X-APPLE-STRUCTURED-LOCATION;VALUE=URI;X-ADDRESS=James’s Terrace Clubhouse Malahide Dublin Co Dublin K36 EY86 Ireland;X-APPLE-RADIUS=500;X-TITLE=Malahide:geo:-6.1501378,53.4509236
END:VEVENT
END:VCALENDAR