BEGIN:VCALENDAR
VERSION:2.0
PRODID:-//Malahide Yacht Club - ECPv6.15.20//NONSGML v1.0//EN
CALSCALE:GREGORIAN
METHOD:PUBLISH
X-WR-CALNAME:Malahide Yacht Club
X-ORIGINAL-URL:https://www.myc.ie
X-WR-CALDESC:Events for Malahide Yacht Club
REFRESH-INTERVAL;VALUE=DURATION:PT1H
X-Robots-Tag:noindex
X-PUBLISHED-TTL:PT1H
BEGIN:VTIMEZONE
TZID:Europe/Dublin
BEGIN:DAYLIGHT
TZOFFSETFROM:+0000
TZOFFSETTO:+0100
TZNAME:IST
DTSTART:20240331T010000
END:DAYLIGHT
BEGIN:STANDARD
TZOFFSETFROM:+0100
TZOFFSETTO:+0000
TZNAME:GMT
DTSTART:20241027T010000
END:STANDARD
BEGIN:DAYLIGHT
TZOFFSETFROM:+0000
TZOFFSETTO:+0100
TZNAME:IST
DTSTART:20250330T010000
END:DAYLIGHT
BEGIN:STANDARD
TZOFFSETFROM:+0100
TZOFFSETTO:+0000
TZNAME:GMT
DTSTART:20251026T010000
END:STANDARD
BEGIN:DAYLIGHT
TZOFFSETFROM:+0000
TZOFFSETTO:+0100
TZNAME:IST
DTSTART:20260329T010000
END:DAYLIGHT
BEGIN:STANDARD
TZOFFSETFROM:+0100
TZOFFSETTO:+0000
TZNAME:GMT
DTSTART:20261025T010000
END:STANDARD
END:VTIMEZONE
BEGIN:VEVENT
DTSTART;TZID=Europe/Dublin:20250503T180000
DTEND;TZID=Europe/Dublin:20250503T230000
DTSTAMP:20260421T114809
CREATED:20250408T185949Z
LAST-MODIFIED:20250408T185949Z
UID:10000645-1746295200-1746313200@www.myc.ie
SUMMARY:Malahide Muster 2025
DESCRIPTION:Malahide Yacht Club (MYC) have a great reputation for welcoming the CAI with open arms and providing their facilities for the CAI to enjoy and this year on Saturday 3rd May 2025 it will be no different !\nThis is a great opportunity to socialise\, talk the talk\, feast and enjoy yourselves. Maybe even bring your voice or instrument for a bit of a seisiún. \nAs well as MYC and CAI members\, cruisers from Howth Yacht Club\, National Yacht Club and perhaps Down Cruising Club will participate. \nA dinner will be served at the club from 18:00 \nBOOK YOUR TICKETS NOW – Only €25 each \nOrganiser: Vincent Lundy 0874117575\nevents@cruising.ie
URL:https://www.myc.ie/event/malahide-muster-2025/
LOCATION:Malahide Yacht Club\, Malahide\, Co Dublin
CATEGORIES:Cruisers
ATTACH;FMTTYPE=image/png:https://www.myc.ie/wp-content/uploads/2025/04/IMG_2347.png
ORGANIZER;CN="Malahide Yacht Club":MAILTO:website@myc.ie
GEO:53.4509236;-6.1501378
X-APPLE-STRUCTURED-LOCATION;VALUE=URI;X-ADDRESS=Malahide Yacht Club Malahide Co Dublin;X-APPLE-RADIUS=500;X-TITLE=Malahide:geo:-6.1501378,53.4509236
END:VEVENT
END:VCALENDAR