BEGIN:VCALENDAR
VERSION:2.0
PRODID:-//Malahide Yacht Club - ECPv6.15.20//NONSGML v1.0//EN
CALSCALE:GREGORIAN
METHOD:PUBLISH
X-WR-CALNAME:Malahide Yacht Club
X-ORIGINAL-URL:https://www.myc.ie
X-WR-CALDESC:Events for Malahide Yacht Club
REFRESH-INTERVAL;VALUE=DURATION:PT1H
X-Robots-Tag:noindex
X-PUBLISHED-TTL:PT1H
BEGIN:VTIMEZONE
TZID:Europe/Dublin
BEGIN:DAYLIGHT
TZOFFSETFROM:+0000
TZOFFSETTO:+0100
TZNAME:IST
DTSTART:20240331T010000
END:DAYLIGHT
BEGIN:STANDARD
TZOFFSETFROM:+0100
TZOFFSETTO:+0000
TZNAME:GMT
DTSTART:20241027T010000
END:STANDARD
BEGIN:DAYLIGHT
TZOFFSETFROM:+0000
TZOFFSETTO:+0100
TZNAME:IST
DTSTART:20250330T010000
END:DAYLIGHT
BEGIN:STANDARD
TZOFFSETFROM:+0100
TZOFFSETTO:+0000
TZNAME:GMT
DTSTART:20251026T010000
END:STANDARD
BEGIN:DAYLIGHT
TZOFFSETFROM:+0000
TZOFFSETTO:+0100
TZNAME:IST
DTSTART:20260329T010000
END:DAYLIGHT
BEGIN:STANDARD
TZOFFSETFROM:+0100
TZOFFSETTO:+0000
TZNAME:GMT
DTSTART:20261025T010000
END:STANDARD
END:VTIMEZONE
BEGIN:VEVENT
DTSTART;TZID=Europe/Dublin:20251108T200000
DTEND;TZID=Europe/Dublin:20251108T233000
DTSTAMP:20260420T102058
CREATED:20251016T121719Z
LAST-MODIFIED:20251023T105340Z
UID:10000657-1762632000-1762644600@www.myc.ie
SUMMARY:Laying Up Supper 2025
DESCRIPTION:Members Login\n					\n					\n				\n								\n				\n					\n		\n				\n			\n						\n				\n							\n							\n					\n						Facebook-f\n											\n				\n							\n					\n						Instagram\n											\n				\n							\n					\n						Twitter
URL:https://www.myc.ie/event/laying-up-supper-2025/
LOCATION:James’s Terrace Clubhouse\, Malahide\, Dublin\, Co Dublin\, K36 EY86\, Ireland
CATEGORIES:Cruisers,Social
ATTACH;FMTTYPE=image/png:https://www.myc.ie/wp-content/uploads/2025/10/Laying-Up-Supper-2025.png
ORGANIZER;CN="Malahide Yacht Club":MAILTO:website@myc.ie
GEO:53.4509236;-6.1501378
X-APPLE-STRUCTURED-LOCATION;VALUE=URI;X-ADDRESS=James’s Terrace Clubhouse Malahide Dublin Co Dublin K36 EY86 Ireland;X-APPLE-RADIUS=500;X-TITLE=Malahide:geo:-6.1501378,53.4509236
END:VEVENT
BEGIN:VEVENT
DTSTART;TZID=Europe/Dublin:20251022T200000
DTEND;TZID=Europe/Dublin:20251022T230000
DTSTAMP:20260420T102058
CREATED:20251014T152438Z
LAST-MODIFIED:20251014T152438Z
UID:10000656-1761163200-1761174000@www.myc.ie
SUMMARY:Quiz Night
DESCRIPTION:Members Login\n					\n					\n				\n								\n				\n					\n		\n				\n			\n						\n				\n							\n							\n					\n						Facebook-f\n											\n				\n							\n					\n						Instagram\n											\n				\n							\n					\n						Twitter
URL:https://www.myc.ie/event/quiz-night-oct25/
LOCATION:James’s Terrace Clubhouse\, Malahide\, Dublin\, Co Dublin\, K36 EY86\, Ireland
CATEGORIES:Social
ATTACH;FMTTYPE=image/png:https://www.myc.ie/wp-content/uploads/2025/10/Quiz-Night.png
ORGANIZER;CN="Malahide Yacht Club":MAILTO:website@myc.ie
GEO:53.4509236;-6.1501378
X-APPLE-STRUCTURED-LOCATION;VALUE=URI;X-ADDRESS=James’s Terrace Clubhouse Malahide Dublin Co Dublin K36 EY86 Ireland;X-APPLE-RADIUS=500;X-TITLE=Malahide:geo:-6.1501378,53.4509236
END:VEVENT
BEGIN:VEVENT
DTSTART;TZID=Europe/Dublin:20251010T190000
DTEND;TZID=Europe/Dublin:20251010T233000
DTSTAMP:20260420T102058
CREATED:20250925T073829Z
LAST-MODIFIED:20251005T130425Z
UID:10000655-1760122800-1760139000@www.myc.ie
SUMMARY:Celebrating 50 Years of Malahide Comhaltas with a Special Seisiún
DESCRIPTION:Members Login\n					\n					\n				\n								\n				\n					\n		\n				\n			\n						\n				\n							\n							\n					\n						Facebook-f\n											\n				\n							\n					\n						Instagram\n											\n				\n							\n					\n						Twitter
URL:https://www.myc.ie/event/celebrating-50-years-of-malahide-comhaltas-with-a-special-seisiun/
LOCATION:James’s Terrace Clubhouse\, Malahide\, Dublin\, Co Dublin\, K36 EY86\, Ireland
CATEGORIES:Social
ATTACH;FMTTYPE=image/jpeg:https://www.myc.ie/wp-content/uploads/2025/09/IMG_2438.jpeg
ORGANIZER;CN="Malahide Yacht Club":MAILTO:website@myc.ie
GEO:53.4509236;-6.1501378
X-APPLE-STRUCTURED-LOCATION;VALUE=URI;X-ADDRESS=James’s Terrace Clubhouse Malahide Dublin Co Dublin K36 EY86 Ireland;X-APPLE-RADIUS=500;X-TITLE=Malahide:geo:-6.1501378,53.4509236
END:VEVENT
BEGIN:VEVENT
DTSTART;TZID=Europe/Dublin:20251008T200000
DTEND;TZID=Europe/Dublin:20251008T230000
DTSTAMP:20260420T102058
CREATED:20250925T073508Z
LAST-MODIFIED:20250925T073508Z
UID:10000654-1759953600-1759964400@www.myc.ie
SUMMARY:Autumn Talk Series - Intro to AI & Cyber Safety
DESCRIPTION:Members Login\n					\n					\n				\n								\n				\n					\n		\n				\n			\n						\n				\n							\n							\n					\n						Facebook-f\n											\n				\n							\n					\n						Instagram\n											\n				\n							\n					\n						Twitter
URL:https://www.myc.ie/event/autumn-talk-series-ai-cyber-safety/
LOCATION:James’s Terrace Clubhouse\, Malahide\, Dublin\, Co Dublin\, K36 EY86\, Ireland
CATEGORIES:Social
ATTACH;FMTTYPE=image/png:https://www.myc.ie/wp-content/uploads/2025/09/MYC-Talk-Series-2025-Noel-Davidson.png
ORGANIZER;CN="Malahide Yacht Club":MAILTO:website@myc.ie
GEO:53.4509236;-6.1501378
X-APPLE-STRUCTURED-LOCATION;VALUE=URI;X-ADDRESS=James’s Terrace Clubhouse Malahide Dublin Co Dublin K36 EY86 Ireland;X-APPLE-RADIUS=500;X-TITLE=Malahide:geo:-6.1501378,53.4509236
END:VEVENT
BEGIN:VEVENT
DTSTART;TZID=Europe/Dublin:20250910T200000
DTEND;TZID=Europe/Dublin:20250910T230000
DTSTAMP:20260420T102058
CREATED:20250824T174818Z
LAST-MODIFIED:20250824T174818Z
UID:10000652-1757534400-1757545200@www.myc.ie
SUMMARY:Autumn Talk Series - Joanna Donnelly
DESCRIPTION:Members Login\n					\n					\n				\n								\n				\n					\n		\n				\n			\n						\n				\n							\n							\n					\n						Facebook-f\n											\n				\n							\n					\n						Instagram\n											\n				\n							\n					\n						Twitter
URL:https://www.myc.ie/event/autumn-talk-series-joanna-donnelly/
LOCATION:James’s Terrace Clubhouse\, Malahide\, Dublin\, Co Dublin\, K36 EY86\, Ireland
CATEGORIES:Social
ATTACH;FMTTYPE=image/png:https://www.myc.ie/wp-content/uploads/2025/08/MYC-Talk-Series-2025-Joanna-Donnelly.png
ORGANIZER;CN="Malahide Yacht Club":MAILTO:website@myc.ie
GEO:53.4509236;-6.1501378
X-APPLE-STRUCTURED-LOCATION;VALUE=URI;X-ADDRESS=James’s Terrace Clubhouse Malahide Dublin Co Dublin K36 EY86 Ireland;X-APPLE-RADIUS=500;X-TITLE=Malahide:geo:-6.1501378,53.4509236
END:VEVENT
BEGIN:VEVENT
DTSTART;TZID=Europe/Dublin:20250905T210000
DTEND;TZID=Europe/Dublin:20250905T233000
DTSTAMP:20260420T102058
CREATED:20250901T120749Z
LAST-MODIFIED:20250901T120818Z
UID:10000653-1757106000-1757115000@www.myc.ie
SUMMARY:Traditional Music Night
DESCRIPTION:Members Login\n					\n					\n				\n								\n				\n					\n		\n				\n			\n						\n				\n							\n							\n					\n						Facebook-f\n											\n				\n							\n					\n						Instagram\n											\n				\n							\n					\n						Twitter
URL:https://www.myc.ie/event/traditional-music-night/
LOCATION:James’s Terrace Clubhouse\, Malahide\, Dublin\, Co Dublin\, K36 EY86\, Ireland
CATEGORIES:Social
ATTACH;FMTTYPE=image/jpeg:https://www.myc.ie/wp-content/uploads/2025/09/Trad-Music-Monthly-Session.jpeg
ORGANIZER;CN="Malahide Yacht Club":MAILTO:website@myc.ie
GEO:53.4509236;-6.1501378
X-APPLE-STRUCTURED-LOCATION;VALUE=URI;X-ADDRESS=James’s Terrace Clubhouse Malahide Dublin Co Dublin K36 EY86 Ireland;X-APPLE-RADIUS=500;X-TITLE=Malahide:geo:-6.1501378,53.4509236
END:VEVENT
BEGIN:VEVENT
DTSTART;TZID=Europe/Dublin:20250813T200000
DTEND;TZID=Europe/Dublin:20250813T230000
DTSTAMP:20260420T102058
CREATED:20250810T093253Z
LAST-MODIFIED:20250812T082349Z
UID:10000651-1755115200-1755126000@www.myc.ie
SUMMARY:MYC New Members Night
DESCRIPTION:Members Login\n					\n					\n				\n								\n				\n					\n		\n				\n			\n						\n				\n							\n							\n					\n						Facebook-f\n											\n				\n							\n					\n						Instagram\n											\n				\n							\n					\n						Twitter
URL:https://www.myc.ie/event/mycs-new-members-night/
LOCATION:James’s Terrace Clubhouse\, Malahide\, Dublin\, Co Dublin\, K36 EY86\, Ireland
CATEGORIES:Social
ATTACH;FMTTYPE=image/png:https://www.myc.ie/wp-content/uploads/2025/08/MYC-New-Members-Night-scaled.png
ORGANIZER;CN="Malahide Yacht Club":MAILTO:website@myc.ie
GEO:53.4509236;-6.1501378
X-APPLE-STRUCTURED-LOCATION;VALUE=URI;X-ADDRESS=James’s Terrace Clubhouse Malahide Dublin Co Dublin K36 EY86 Ireland;X-APPLE-RADIUS=500;X-TITLE=Malahide:geo:-6.1501378,53.4509236
END:VEVENT
BEGIN:VEVENT
DTSTART;TZID=Europe/Dublin:20250809T163000
DTEND;TZID=Europe/Dublin:20250809T213000
DTSTAMP:20260420T102058
CREATED:20250731T161218Z
LAST-MODIFIED:20250731T161638Z
UID:10000650-1754757000-1754775000@www.myc.ie
SUMMARY:MYC Regatta BBQ
DESCRIPTION:Members Login\n					\n					\n				\n								\n				\n					\n		\n				\n			\n						\n				\n							\n							\n					\n						Facebook-f\n											\n				\n							\n					\n						Instagram\n											\n				\n							\n					\n						Twitter
URL:https://www.myc.ie/event/myc-regatta-bbq/
LOCATION:James’s Terrace Clubhouse\, Malahide\, Dublin\, Co Dublin\, K36 EY86\, Ireland
CATEGORIES:Cruisers,Social
ATTACH;FMTTYPE=image/png:https://www.myc.ie/wp-content/uploads/2025/07/MYC-BBQ-2025-Poster.png
ORGANIZER;CN="Malahide Yacht Club":MAILTO:website@myc.ie
GEO:53.4509236;-6.1501378
X-APPLE-STRUCTURED-LOCATION;VALUE=URI;X-ADDRESS=James’s Terrace Clubhouse Malahide Dublin Co Dublin K36 EY86 Ireland;X-APPLE-RADIUS=500;X-TITLE=Malahide:geo:-6.1501378,53.4509236
END:VEVENT
BEGIN:VEVENT
DTSTART;TZID=Europe/Dublin:20250628T100000
DTEND;TZID=Europe/Dublin:20250628T180000
DTSTAMP:20260420T102058
CREATED:20250621T081522Z
LAST-MODIFIED:20250621T081522Z
UID:10000649-1751104800-1751133600@www.myc.ie
SUMMARY:Wicklow Vase 2025
DESCRIPTION:Members Login\n					\n					\n				\n								\n				\n					\n		\n				\n			\n						\n				\n							\n							\n					\n						Facebook-f\n											\n				\n							\n					\n						Instagram\n											\n				\n							\n					\n						Twitter
URL:https://www.myc.ie/event/wicklow-vase-2025/
LOCATION:James’s Terrace Clubhouse\, Malahide\, Dublin\, Co Dublin\, K36 EY86\, Ireland
CATEGORIES:Cruisers
ATTACH;FMTTYPE=image/png:https://www.myc.ie/wp-content/uploads/2025/06/MYC-Wicklow-Vase.png
ORGANIZER;CN="Malahide Yacht Club":MAILTO:website@myc.ie
GEO:53.4509236;-6.1501378
X-APPLE-STRUCTURED-LOCATION;VALUE=URI;X-ADDRESS=James’s Terrace Clubhouse Malahide Dublin Co Dublin K36 EY86 Ireland;X-APPLE-RADIUS=500;X-TITLE=Malahide:geo:-6.1501378,53.4509236
END:VEVENT
BEGIN:VEVENT
DTSTART;TZID=Europe/Dublin:20250504T163000
DTEND;TZID=Europe/Dublin:20250504T203000
DTSTAMP:20260420T102058
CREATED:20250419T080352Z
LAST-MODIFIED:20250419T080352Z
UID:10000646-1746376200-1746390600@www.myc.ie
SUMMARY:Cook Your Hearts Out 2025
DESCRIPTION:Members Login\n					\n					\n				\n								\n				\n					\n		\n				\n			\n						\n				\n							\n							\n					\n						Facebook-f\n											\n				\n							\n					\n						Instagram\n											\n				\n							\n					\n						Twitter
URL:https://www.myc.ie/event/cook-your-hearts-out-2025/
LOCATION:James’s Terrace Clubhouse\, Malahide\, Dublin\, Co Dublin\, K36 EY86\, Ireland
ATTACH;FMTTYPE=image/png:https://www.myc.ie/wp-content/uploads/2025/04/MYC-Cook-Off.png
ORGANIZER;CN="Malahide Yacht Club":MAILTO:website@myc.ie
GEO:53.4509236;-6.1501378
X-APPLE-STRUCTURED-LOCATION;VALUE=URI;X-ADDRESS=James’s Terrace Clubhouse Malahide Dublin Co Dublin K36 EY86 Ireland;X-APPLE-RADIUS=500;X-TITLE=Malahide:geo:-6.1501378,53.4509236
END:VEVENT
BEGIN:VEVENT
DTSTART;TZID=Europe/Dublin:20250416T080000
DTEND;TZID=Europe/Dublin:20250416T233000
DTSTAMP:20260420T102058
CREATED:20250323T231713Z
LAST-MODIFIED:20250323T231713Z
UID:10000644-1744790400-1744846200@www.myc.ie
SUMMARY:Quiz Night
DESCRIPTION:Members Login\n					\n					\n				\n								\n				\n					\n		\n				\n			\n						\n				\n							\n							\n					\n						Facebook-f\n											\n				\n							\n					\n						Instagram\n											\n				\n							\n					\n						Twitter
URL:https://www.myc.ie/event/quiz-night/
LOCATION:James’s Terrace Clubhouse\, Malahide\, Dublin\, Co Dublin\, K36 EY86\, Ireland
CATEGORIES:Social
ATTACH;FMTTYPE=image/png:https://www.myc.ie/wp-content/uploads/2025/03/Quiz-Night-1.png
ORGANIZER;CN="Malahide Yacht Club":MAILTO:website@myc.ie
GEO:53.4509236;-6.1501378
X-APPLE-STRUCTURED-LOCATION;VALUE=URI;X-ADDRESS=James’s Terrace Clubhouse Malahide Dublin Co Dublin K36 EY86 Ireland;X-APPLE-RADIUS=500;X-TITLE=Malahide:geo:-6.1501378,53.4509236
END:VEVENT
BEGIN:VEVENT
DTSTART;TZID=Europe/Dublin:20250412T200000
DTEND;TZID=Europe/Dublin:20250412T233000
DTSTAMP:20260420T102058
CREATED:20250323T230839Z
LAST-MODIFIED:20250410T071141Z
UID:10000643-1744488000-1744500600@www.myc.ie
SUMMARY:Launching Supper 2025
DESCRIPTION:Members Login\n					\n					\n				\n								\n				\n					\n		\n				\n			\n						\n				\n							\n							\n					\n						Facebook-f\n											\n				\n							\n					\n						Instagram\n											\n				\n							\n					\n						Twitter
URL:https://www.myc.ie/event/launching-supper-2025/
LOCATION:James’s Terrace Clubhouse\, Malahide\, Dublin\, Co Dublin\, K36 EY86\, Ireland
CATEGORIES:Cruisers,Social
ATTACH;FMTTYPE=image/png:https://www.myc.ie/wp-content/uploads/2025/03/Live-Streaming.png
ORGANIZER;CN="Malahide Yacht Club":MAILTO:website@myc.ie
GEO:53.4509236;-6.1501378
X-APPLE-STRUCTURED-LOCATION;VALUE=URI;X-ADDRESS=James’s Terrace Clubhouse Malahide Dublin Co Dublin K36 EY86 Ireland;X-APPLE-RADIUS=500;X-TITLE=Malahide:geo:-6.1501378,53.4509236
END:VEVENT
END:VCALENDAR